BEGIN:VCALENDAR
VERSION:2.0
PRODID:-//wp-events-plugin.com//7.2.2.1//EN
BEGIN:VEVENT
UID:9@wds-ito.org
DTSTART:20230921T200000Z
DTEND:20230921T220000Z
DTSTAMP:20230914T161943Z
URL:https://wds-ito.org/events/polar-to-global-hackathon-sept-21st/
SUMMARY:Polar to Global Hackathon - Sept 21st
DESCRIPTION:Polar to Global Hackathon - Sept 21st
ATTACH;FMTTYPE=image/jpeg:https://wds-ito.org/wp-content/uploads/2021/07/d
 ata-scaled.jpg
END:VEVENT
END:VCALENDAR