BEGIN:VCALENDAR
VERSION:2.0
PRODID:-//wp-events-plugin.com//7.2.2.1//EN
BEGIN:VEVENT
UID:7@wds-ito.org
DTSTART:20230504T200000Z
DTEND:20230504T220000Z
DTSTAMP:20240726T182816Z
URL:https://wds-ito.org/events/polar-to-global-hackathon-may-4-2023/
SUMMARY:[CANCELLED] Polar To Global Hackathon – May 4\, 2023
DESCRIPTION:Join us for the Polar to Global Online Interoperability and Dat
 a Sharing Workshop/Hackathon on 4th May 2023 20-22 UTC.
ATTACH;FMTTYPE=image/jpeg:https://wds-ito.org/wp-content/uploads/2021/07/d
 ata-scaled.jpg
END:VEVENT
END:VCALENDAR