BEGIN:VCALENDAR
VERSION:2.0
PRODID:-//wp-events-plugin.com//7.2.2.1//EN
BEGIN:VEVENT
UID:15@wds-ito.org
DTSTART:20250116T010000Z
DTEND:20250116T033000Z
DTSTAMP:20250110T220216Z
URL:https://wds-ito.org/events/data-repository-descriptive-metadata-jan-16
 -2024/
SUMMARY:Data Repository Descriptive Metadata: Recommendations & Resources -
  January 16
DESCRIPTION:In this 2.5-hour workshop\, we emphasize the importance of meta
 data used to describe data repositories\, with a focus on the re3data Reg
 istry of Research Data Repositories\, and the recommendations from the RD
 A Common Descriptive Attributes of Research Data Repositories. While some 
 of these attributes are straightforward\, others are more complicated to r
 epresent\; thus\, the reasons they are more difficult will be summarized a
 nd time to discuss with participants is allocated. We will also cover pote
 ntial use cases and applications for these metadata. Towards the end\, an 
 optional follow-on activity that will take place over the next couple mont
 hs will be described.\n\nThe workshop will be delivered in English\, and o
 ffered at two repeat sessions to support a wider spectrum of geographical 
 time zones. This is the listing for the second workshop on [event post_id=
 "3911"]#_EVENTDATES at #_EVENTTIMES[/event]. For the first workshop\, plea
 se see this event listing. The workshop will be delivered by World Data Sy
 stem International Technology Office Staff\, in coordination with re3data.
  Guest speakers will be updated as they are confirmed.\n\nSpeakers:\n\nKat
 hleen Shearer and Michael Witt will be our guest speakers at this event.\n
 \nTarget Audience: \n\n 	Primary: data repository representatives\n 	Seco
 ndary: users of data repository metadata\n\nDesired Outcomes: \n\n 	Parti
 cipants have increased familiarity with re3data features\, metadata schema
  and applications\n 	Participants are aware of the Research Data Alliance 
 recommendations on data repository attribute metadata\, and how they can b
 e represented within re3data records\n 	Discussions provide insights into 
 the more challenging attributes to represent\n 	Repository staff are motiv
 ated to update existing records and maintain them regularly thereafter\n 	
 A subset of participants are interested to participate in a follow-on coho
 rt to be supported through updates and provide more in-depth feedback\n 	V
 isibility of data repositories is increased by improved description of the
 ir collections and services\n\nExpectation of Participants: \n\nParticipa
 nts are encouraged to attend and actively engage in discussions at one of 
 the workshops. Participants will be asked to complete a survey post-worksh
 op\, and to optionally participate in the follow-on pilot exercise that wi
 ll be described during the workshop.\n\nKey Reference:\n\nWitt\, M.\, Cann
 on\, M.\, Lister\, A.\, Segundo\, W.\, Shearer\, K.\, Yamaji\, K.\, &amp\;
  Research Data Alliance Data Repository Attributes Working Group. (2024). 
 RDA Common Descriptive Attributes of Research Data Repositories (1.0). Zen
 odo. https://doi.org/10.15497/RDA00103\n\nTo attend\, please register thr
 ough Zoom\n\nFor questions\, please contact ito-director@oceannetworks.ca.
ATTACH;FMTTYPE=image/jpeg:https://wds-ito.org/wp-content/uploads/2024/12/W
 DS-ITO-Workshop-Graphic-5.png
LOCATION:https://tennessee.zoom.us/meeting/register/tZApcu6ppj8oGdGA9e-uiLL
 ytgHQxxVSGH-Y
END:VEVENT
END:VCALENDAR